BEGIN:VCALENDAR
VERSION:2.0
PRODID:-//nubedian GmbH - ECPv6.15.20//NONSGML v1.0//EN
CALSCALE:GREGORIAN
METHOD:PUBLISH
X-ORIGINAL-URL:https://nubedian.de/en/
X-WR-CALDESC:Events for nubedian GmbH
REFRESH-INTERVAL;VALUE=DURATION:PT1H
X-Robots-Tag:noindex
X-PUBLISHED-TTL:PT1H
BEGIN:VTIMEZONE
TZID:Europe/Berlin
BEGIN:DAYLIGHT
TZOFFSETFROM:+0100
TZOFFSETTO:+0200
TZNAME:CEST
DTSTART:20200329T010000
END:DAYLIGHT
BEGIN:STANDARD
TZOFFSETFROM:+0200
TZOFFSETTO:+0100
TZNAME:CET
DTSTART:20201025T010000
END:STANDARD
BEGIN:DAYLIGHT
TZOFFSETFROM:+0100
TZOFFSETTO:+0200
TZNAME:CEST
DTSTART:20210328T010000
END:DAYLIGHT
BEGIN:STANDARD
TZOFFSETFROM:+0200
TZOFFSETTO:+0100
TZNAME:CET
DTSTART:20211031T010000
END:STANDARD
BEGIN:DAYLIGHT
TZOFFSETFROM:+0100
TZOFFSETTO:+0200
TZNAME:CEST
DTSTART:20220327T010000
END:DAYLIGHT
BEGIN:STANDARD
TZOFFSETFROM:+0200
TZOFFSETTO:+0100
TZNAME:CET
DTSTART:20221030T010000
END:STANDARD
BEGIN:DAYLIGHT
TZOFFSETFROM:+0100
TZOFFSETTO:+0200
TZNAME:CEST
DTSTART:20230326T010000
END:DAYLIGHT
BEGIN:STANDARD
TZOFFSETFROM:+0200
TZOFFSETTO:+0100
TZNAME:CET
DTSTART:20231029T010000
END:STANDARD
END:VTIMEZONE
BEGIN:VEVENT
DTSTART;TZID=Europe/Berlin:20220920T140000
DTEND;TZID=Europe/Berlin:20220920T150000
DTSTAMP:20260423T112414
CREATED:20220318T125514Z
LAST-MODIFIED:20220902T143450Z
UID:6454-1663682400-1663686000@nubedian.de
SUMMARY:Caseform Webinar für Rehakliniken
DESCRIPTION:Entlassmanagementprozesse sind auf Grund der Vielzahl an Akteuren komplex und fragmentiert. Viele Akteure arbeiten in eigenen Systemen und es resultieren Informationsdefizite und Kommunikationsbrüche. Mit der digitalen Entlass- und Überleitungsmanagementplattform Caseform bringt nubedian alle Prozessbeteiligten zusammen. So auch Sie als Rehaklinik. \nÜber die Plattform werden Sie in ein digitales Netzwerk aus Akutkliniken\, Pflegeorganisationen und Hilfsmittelanbietern eingebunden und erhalten Überleitungsanfragen von den Einweisern. Im Webinar möchten wir Ihnen die Vorteile der Entlassplattform Caseform genauer vorstellen und skizzieren\, wie Sie passgenaue Überleitungsanfragen erhalten. \nWir freuen uns auf Ihre Teilnahme! Bitte melden Sie sich bis zum 19.09. unter folgendem Link an: Anmeldung \nBei Rückfragen wenden Sie sich gerne an Frau Ringhoffer per E-Mail unter ringhoffer@nubedian.de.
URL:https://nubedian.de/en/event/caseform-webinar-fuer-rehakliniken/
LOCATION:Online-Veranstaltung
CATEGORIES:Veranstaltungsformate Caseform
ATTACH;FMTTYPE=image/png:https://nubedian.de/wp-content/uploads/2021/05/Caseform-Webinar-1.png
END:VEVENT
BEGIN:VEVENT
DTSTART;TZID=Europe/Berlin:20220824T150000
DTEND;TZID=Europe/Berlin:20220824T160000
DTSTAMP:20260423T112414
CREATED:20220713T095149Z
LAST-MODIFIED:20220713T095149Z
UID:7955-1661353200-1661356800@nubedian.de
SUMMARY:Caseform Webinar für Hilfsmittel-/Homecareanbieter
DESCRIPTION:Entlassmanagementprozesse sind auf Grund der Vielzahl an Akteuren komplex und fragmentiert. Viele Akteure arbeiten in eigenen Systemen und es resultieren Informationsdefizite und Kommunikationsbrüche. Mit der digitalen Entlass- und Überleitungsmanagementplattform Caseform bringt nubedian alle Prozessbeteiligten zusammen. So auch Sie als Dienstleister aus dem Bereich Hilfsmittel/Homecare. \nÜber die Plattform werden Sie in ein digitales Netzwerk aus Akutkliniken\, Rehas und Pflegeorganisationen eingebunden und erhalten Versorgungsanfragen von den Einweisern. Im Webinar möchten wir Ihnen die Vorteile der Entlassplattform Caseform genauer vorstellen und skizzieren\, wie Sie passgenaue Hilfsmittelanfragen erhalten. \nWir freuen uns auf Ihre Teilnahme! Bitte melden Sie sich bis zum 23. August unter folgendem Link an: Anmeldung \nBei Rückfragen wenden Sie sich gerne an Frau Ringhoffer per E-Mail unter ringhoffer@nubedian.de.
URL:https://nubedian.de/en/event/caseform-webinar-fuer-hilfsmittel-homecareanbieter/
LOCATION:Online-Veranstaltung
CATEGORIES:Veranstaltungsformate Caseform
ATTACH;FMTTYPE=image/png:https://nubedian.de/wp-content/uploads/2021/05/Caseform-Webinar-1.png
END:VEVENT
BEGIN:VEVENT
DTSTART;TZID=Europe/Berlin:20220713T150000
DTEND;TZID=Europe/Berlin:20220713T160000
DTSTAMP:20260423T112414
CREATED:20211014T072756Z
LAST-MODIFIED:20220711T080015Z
UID:5878-1657724400-1657728000@nubedian.de
SUMMARY:Caseform Webinar für Pflege
DESCRIPTION:Entlassmanagementprozesse sind auf Grund der Vielzahl an Akteuren komplex und fragmentiert. Viele Akteure arbeiten in eigenen Systemen und es resultieren Informationsdefizite und Kommunikationsbrüche. Mit der digitalen Entlass- und Überleitungsmanagementplattform Caseform bringt nubedian alle Prozessbeteiligten zusammen. So auch Sie als Pflegeeinrichtung. \nÜber die Plattform werden Sie in ein digitales Netzwerk aus Akutkliniken\, Rehas und Hilfsmittelanbieter eingebunden und erhalten Überleitungsanfragen von den Einweisern. Im Webinar möchten wir Ihnen die Vorteile der Entlassplattform Caseform genauer vorstellen und skizzieren\, wie Sie passgenaue Überleitungsanfragen von Krankenhäusern erhalten. \nWir freuen uns auf Ihre Teilnahme! Bitte melden Sie sich bis zum 12.Juli unter folgendem Link an: Anmeldung \nBei Rückfragen wenden Sie sich gerne an Frau Ringhoffer per E-Mail unter ringhoffer@nubedian.de.
URL:https://nubedian.de/en/event/caseform-webinar-fuer-pflege/
LOCATION:Online-Veranstaltung
CATEGORIES:Veranstaltungsformate Caseform
ATTACH;FMTTYPE=image/png:https://nubedian.de/wp-content/uploads/2021/05/Caseform-Webinar-1.png
END:VEVENT
BEGIN:VEVENT
DTSTART;TZID=Europe/Berlin:20220712T150000
DTEND;TZID=Europe/Berlin:20220712T150000
DTSTAMP:20260423T112414
CREATED:20220318T125300Z
LAST-MODIFIED:20220711T084433Z
UID:6451-1657638000-1657638000@nubedian.de
SUMMARY:Caseform Webinar für Hilfsmittel-/Homecareanbieter
DESCRIPTION:Entlassmanagementprozesse sind auf Grund der Vielzahl an Akteuren komplex und fragmentiert. Viele Akteure arbeiten in eigenen Systemen und es resultieren Informationsdefizite und Kommunikationsbrüche. Mit der digitalen Entlass- und Überleitungsmanagementplattform Caseform bringt nubedian alle Prozessbeteiligten zusammen. So auch Sie als Dienstleister aus dem Bereich Hilfsmittel/Homecare. \nÜber die Plattform werden Sie in ein digitales Netzwerk aus Akutkliniken\, Rehas und Pflegeorganisationen eingebunden und erhalten Versorgungsanfragen von den Einweisern. Im Webinar möchten wir Ihnen die Vorteile der Entlassplattform Caseform genauer vorstellen und skizzieren\, wie Sie passgenaue Hilfsmittelanfragen erhalten. \nWir freuen uns auf Ihre Teilnahme! Bitte melden Sie sich bis zum 11. Juli unter folgendem Link an: Anmeldung \nBei Rückfragen wenden Sie sich gerne an Frau Ringhoffer per E-Mail unter ringhoffer@nubedian.de.
URL:https://nubedian.de/en/event/caseform-webinar-hilfsmittel/
LOCATION:Online-Veranstaltung
CATEGORIES:Veranstaltungsformate Caseform
ATTACH;FMTTYPE=image/png:https://nubedian.de/wp-content/uploads/2021/05/Caseform-Webinar-1.png
END:VEVENT
BEGIN:VEVENT
DTSTART;TZID=Europe/Berlin:20220706T140000
DTEND;TZID=Europe/Berlin:20220706T150000
DTSTAMP:20260423T112414
CREATED:20220608T061756Z
LAST-MODIFIED:20220608T064440Z
UID:6808-1657116000-1657119600@nubedian.de
SUMMARY:CareCM Webinar: Funktionalität von Dokumentenvorlagen
DESCRIPTION:Mit der neuesten Version von CareCM steht den Anwendenden nun die Funktionalität von Dokumentenvorlagen zur Verfügung. Damit können einmalig erstellte Vorlagen mit spezifisch definierten Informationen eines Datensatzes per Knopfklick befüllt und angezeigt werden. Dadurch haben die Anwendenden bspw. die Möglichkeit eine Datenschutzeinwilligung bereits mit den Stammdaten befüllt zu erstellen und in der Form den Klienten zur Unterschrift vorzulegen. Zudem haben die Anwendenden auch die Möglichkeit Übersichten von Organisationen passgenau für den vorliegenden Bedarf des Klienten erstellen und aushändigen zu können. Im Rahmen des Webinars möchten wir Ihnen die Möglichkeiten dieser Dokumentenvorlagen vorstellen sowie die Schritte vom Erstellen der Vorlagen bis hin zum Einsatz im Arbeitsalltag aufzeigen. \nZielgruppe: Bestands-/Neukunden und Interessenten von CareCM \nAnmeldung bis zum 05. Juli unter folgendem Link: https://us06web.zoom.us/webinar/register/WN_8OqgmIOSSdOqEZ8LTq3EQQ \nWir freuen uns auf Ihre Teilnahme!  \nBei Rückfragen wenden Sie sich gerne an Frau Ringhoffer per E-Mail unter ringhoffer@nubedian.de.
URL:https://nubedian.de/en/event/carecm-dokumentenvorlage/
LOCATION:Online-Veranstaltung
ATTACH;FMTTYPE=image/jpeg:https://nubedian.de/wp-content/uploads/2022/06/CareCM_Anwenderaustausch_zoom-1.jpg
END:VEVENT
BEGIN:VEVENT
DTSTART;VALUE=DATE:20220628
DTEND;VALUE=DATE:20220630
DTSTAMP:20260423T112414
CREATED:20211110T220842Z
LAST-MODIFIED:20220309T115845Z
UID:5967-1656374400-1656547199@nubedian.de
SUMMARY:World Class Digital Health 2022
DESCRIPTION:Besuchen Sie uns beim internationalen Entscheider-Event 2022.  \nIn unserem Vortrag werden wir aufzeigen\, wie Prozesse in der Patientenversorgung mittels der webbasierten Entlassplattform Caseform digital und effizient durchgeführt werden. Die digitale Plattform ist seit mehreren Jahren erfolgreich beim Universitätsklinikum Bonn im Einsatz und unterstützt den Sozialdienst bei der nahtlosen Suche einer passenden Nachversorgung für ihre Patientinnen und Patienten. Gemeinsam mit Dr. med. Thorsten Hornung\, Leiter Geschäftsbereich Medizinmanagement\, beleuchten wir die Zusammenarbeit und geben spannende Anregungen für ein modernes und innovatives Entlassmanagement. \nAlle weiteren Informationen zur Veranstaltung finden Sie hier.
URL:https://nubedian.de/en/event/world-class-digital-health-2022/
LOCATION:Leonardo Hotel Frankfurt City South\, Isenburger Schneise 40\, Frankfurt am Main\, 60528\, Germany
ATTACH;FMTTYPE=image/png:https://nubedian.de/wp-content/uploads/2021/12/wcdh.png
END:VEVENT
BEGIN:VEVENT
DTSTART;TZID=Europe/Berlin:20220622T150000
DTEND;TZID=Europe/Berlin:20220622T160000
DTSTAMP:20260423T112414
CREATED:20220328T074305Z
LAST-MODIFIED:20220328T074305Z
UID:6630-1655910000-1655913600@nubedian.de
SUMMARY:Caseform Anwenderaustausch
DESCRIPTION:In diesem Regeltermin möchten wir Ihnen Raum geben\, um sich mit anderen Anwenderinnen und Anwendern über die Plattform „Caseform“ auszutauschen. Dabei sollen niederschwellig Impulse ausgetauscht\, sich gegenseitig Zweifel genommen oder Fragen geklärt werden. \nZielgruppe: \n\nAnwenderinnen und Anwender der Entlass- und Überleitungsplattform und Interessierte jeglicher Versorgungsbereiche\n\nAblauf: \n\nBegrüßung und Vorstellung der Agenda\nAktuelle Entwicklung und Ausblick weiterer Funktionen\nFachlicher Austausch\nBeantwortung expliziter Fragen\nZusammenfassung mit Ausblick\n\nWeitere Termine (mittwochs\, jeweils 15:00 – 16:00 Uhr): \n\n21.09.2022\n14.12.2022\n\nHier für die Termine anmelden. \nWir freuen uns auf Ihre Teilnahme!
URL:https://nubedian.de/en/event/caseform-anwenderaustausch-3/
LOCATION:Online-Veranstaltung
ATTACH;FMTTYPE=image/png:https://nubedian.de/wp-content/uploads/2022/03/event-3-1.png
END:VEVENT
BEGIN:VEVENT
DTSTART;TZID=Europe/Berlin:20220323T100000
DTEND;TZID=Europe/Berlin:20220323T110000
DTSTAMP:20260423T112414
CREATED:20220309T095238Z
LAST-MODIFIED:20220309T122337Z
UID:6278-1648029600-1648033200@nubedian.de
SUMMARY:Caseform Anwenderaustausch
DESCRIPTION:In diesem Regeltermin möchten wir Ihnen Raum geben\, um sich mit anderen Anwenderinnen und Anwendern über die Plattform „Caseform“ auszutauschen. Dabei sollen niederschwellig Impulse ausgetauscht\, sich gegenseitig Zweifel genommen oder Fragen geklärt werden. \nZielgruppe:\n● Anwenderinnen und Anwender der Entlass- und Überleitungsplattform und Interessierte jeglicher Versorgungsbereiche \nAblauf:\n● Begrüßung und Vorstellung der Agenda\n● Aktuelle Entwicklung und Ausblick weiterer Funktionen\n● Fachlicher Austausch\n● Beantwortung expliziter Fragen\n● Zusammenfassung mit Ausblick \nWeitere Termine (mittwochs\, jeweils 10:00 – 11:00 Uhr):\n● 22.06.2022\n● 21.09.2022\n● 14.12.2022 \nHier für die Termine anmelden \nWir freuen uns auf Ihre Teilnahme!
URL:https://nubedian.de/en/event/anwenderaustausch/
LOCATION:Online-Veranstaltung
ATTACH;FMTTYPE=image/png:https://nubedian.de/wp-content/uploads/2022/03/event-3-1.png
END:VEVENT
BEGIN:VEVENT
DTSTART;TZID=Europe/Berlin:20220301T140000
DTEND;TZID=Europe/Berlin:20220301T153000
DTSTAMP:20260423T112414
CREATED:20220203T054913Z
LAST-MODIFIED:20220203T130033Z
UID:6098-1646143200-1646148600@nubedian.de
SUMMARY:Webinar mit m.Doc zum Thema Patientenportal
DESCRIPTION:Das Patientenportal — Digitale Patientenbegleitung von Aufnahme bis Entlassung. \nIn diesem Webinar möchten wir Ihnen die gesamte Patient Journey\, von der digitalen Aufnahme bis hin zum Überleitungs- und Entlassmanagement\, anhand unserem integrativen Patientenportal vorstellen. Dabei geben Ihnen unsere Experten Mathias Schmon (nubedian GmbH) und Bodo Hubl (m.Doc GmbH) spannende Einblicke in das nahtlose Zusammenspiel zwischen dem m.Doc Patientenportal und der Entlassmanagementplattform Caseform. \nErfahren Sie während dem Webinar: \n• wie Sie Ihre Patient:innen von der prästationären Aufnahme bis zur poststationären Nachversorgung bestmöglich und digital unterstützen\n• wie Sie Ihren Patientenstrom optimal steuern\n• wie wir Ihnen einen sicheren und intersektoralen Datenaustausch zu jeder Zeit gewährleisten \nHier gelangen Sie zur Anmeldung. \nWir freuen uns auf Ihre Teilnahme! \nBei Rückfragen wenden Sie sich gerne an Herrn Kolberg per E-Mail unter kolberg@nubedian.de.
URL:https://nubedian.de/en/event/das-patientenportal-digitale-patientenbegleitung-von-aufnahme-bis-entlassung/
LOCATION:Online-Veranstaltung
ATTACH;FMTTYPE=image/png:https://nubedian.de/wp-content/uploads/2022/02/cover_01-1.png
END:VEVENT
BEGIN:VEVENT
DTSTART;TZID=Europe/Berlin:20211130T140000
DTEND;TZID=Europe/Berlin:20211130T153000
DTSTAMP:20260423T112414
CREATED:20211122T084243Z
LAST-MODIFIED:20211122T092056Z
UID:5982-1638280800-1638286200@nubedian.de
SUMMARY:CareCM Anwendertag
DESCRIPTION:Innovativ und zuverlässig Pflegeberatung durchführen \nDie Software-Landschaft für Pflegeberatung ist sehr fragmentiert. Ob Verwaltungssoftware\, Excel-Tabellen oder handschriftliche Notizen – die Dokumentations-Methoden sind vielschichtig und teilweise immer noch analog. Gleichzeitig ändern sich kontinuierlich die Ansprüche an zeitgemäße Pflegeberatung. Erst Ende letzten Jahres wurden die Pflegeberatungs-Richtlinien nach § 7a SGB XI des GKV-Spitzenverbands um den eVersorgungsplan ergänzt\, der ab 01.01.2023 verbindlich Anwendung finden soll. \nGerne stellen wir Ihnen mit CareCM eine neu entwickelte Lösung für die Pflegeberatung vor\, die bereits bundesweit zum Einsatz kommt. In dieser ist der angesprochene eVersorgungsplan bereits in der Umsetzung. Wie das konkret aussieht? \nNehmen Sie an unserem kostenfreien Webinar teil und erfahren Sie\, wie Sie schnelle telefonische sowie persönlich komplexe Beratungen dokumentieren und mit wenigen Klicks relevante Statistiken (z.B. PG1) erstellen. \nAnmelden können Sie sich bis zum 26. November hier. \nWir freuen uns auf Ihre Teilnahme! \nBei Rückfragen wenden Sie sich gerne an Herrn Kolberg per E-Mail unter  kolberg@nubedian.de.
URL:https://nubedian.de/en/event/carecm-anwendertag/
LOCATION:Online-Veranstaltung
ATTACH;FMTTYPE=image/jpeg:https://nubedian.de/wp-content/uploads/2021/11/userday_carecm_invitaton_03-2.jpg
END:VEVENT
END:VCALENDAR